BEGIN:VCALENDAR
PRODID: -//CFLIB.ORG//iCalUS()//EN
VERSION:2.0
METHOD:REQUEST
BEGIN:VTIMEZONE
BEGIN:STANDARD
DTSTART:20061101T020000
RRULE:FREQ=YEARLY;INTERVAL=1;BYDAY=1SU;BYMONTH=11
TZOFFSETFROM:-0400
TZOFFSETTO:-0500
TZNAME:Standard Time
END:STANDARD
BEGIN:DAYLIGHT
DTSTART:20060301T020000
RRULE:FREQ=YEARLY;INTERVAL=1;BYDAY=2SU;BYMONTH=3
TZOFFSETFROM:-0500
TZOFFSETTO:-0400
TZNAME:Daylight Savings Time
END:DAYLIGHT
END:VTIMEZONE
BEGIN:VEVENT
UID:1614043013988.CFLIB.ORG
ORGANIZER;CN=:MAILTO:
DTSTAMP:20210223T121653
DTSTART;TZID=Eastern Time:20210223T153000
DTEND;TZID=Eastern Time:20210223T154000
SUMMARY:ANGELLA STORRIER REAL ESTATE - OFI/OPEN HOME - 43a Kidd Circuit, GOULBURN, 2580
LOCATION:43a Kidd Circuit, GOULBURN, 2580
DESCRIPTION:OFI/OPEN HOME - 43a Kidd Circuit, GOULBURN, 2580\n\nTuesday 3:30PM-3:40PM\n\nClick the link for full listing information: http://angellastorrierrealestate.com.au?/property/3165814
PRIORITY:1
TRANSP:OPAQUE
CLASS:PUBLIC
BEGIN:VALARM
TRIGGER:-PT30M
ACTION:DISPLAY
DESCRIPTION:Reminder
END:VALARM
END:VEVENT
END:VCALENDAR 